BEGIN:VCALENDAR
VERSION:2.0
PRODID:Events Booking
BEGIN:VEVENT
UID:69e892f4868bf
SUMMARY:Allgemeine PM-CoP: Deep Dive \"Integrating Organizational Change Ma
 nagement into Project Management\"
DESCRIPTION:Täglich werden wir in Projekten neuen Herausforderungen gegen
 übergestellt. Mit dieser CoP wollen wir branchenübergreifend verschieden
 ste Themen aus dem weiten Feld des Projektmanagements per \"Deep Dive\" n
 äher beleuchten und neuartige Ansätze zur Bewältigung jener Fragestellu
 ngen entwickeln\, sowie ggf. auch in Vorträgen und Artikeln veröffentlic
 hen.
 In unserem 2. Meeting wollen wir das Thema \"Integrating Organizati
 onal Change Management into Project Management\" näher untersuchen.&nbsp\
 ;
 &nbsp\;
 &nbsp\;
DTSTART:20240711T173000Z
DTEND:20240711T183000Z
DTSTAMP:20240621T184006Z
ORGANIZER;CN=PMI Germany Chapter e.V.:MAILTO:website@pmi-gc.de
END:VEVENT
END:VCALENDAR