BEGIN:VCALENDAR
VERSION:2.0
PRODID:Events Booking
BEGIN:VEVENT
UID:69e6169354e46
SUMMARY:COP LIFE-SCIENCES ROUNDTABLE 7
DESCRIPTION:Seien Sie bei unserem nächsten Roundtable dabei\, in dem wir u
 nseren Plan für die kommenden Group Working Sessions vorstellen! Nutzen S
 ie die Chance\, sich mit anderen auszutauschen\, voneinander zu lernen und
  die Zukunft des Projektmanagements im Life-Sciences-Bereich aktiv mitzuge
 stalten.Aktuell bereiten wir die nächste Runde unserer Group Working Sess
 ions vor\, die Ende August starten und bis Oktober laufen werden. Dabei ba
 uen wir auf den bisherigen Erkenntnissen auf und entwickeln die Inhalte ge
 zielt weiter. Den Abschluss bildet eine spannende Abschlussveranstaltung i
 m November\, bei der wir die Ergebnisse und unsere Ideen für die nächste
 n Schritte präsentieren.
DTSTART:20250724T163000Z
DTEND:20250724T180000Z
DTSTAMP:20250628T114624Z
ORGANIZER;CN=PMI Germany Chapter e.V.:MAILTO:website@pmi-gc.de
END:VEVENT
END:VCALENDAR