BEGIN:VCALENDAR
VERSION:2.0
PRODID:Events Booking
BEGIN:VEVENT
UID:69e73aa0c027a
SUMMARY:Weihnachts-Stammtisch bei MAMPE
DESCRIPTION:Willkommmen zum Weihnachts-Stammtisch bei Mampe!
 Projektmanag
 ement und Genuss schließen sich nicht aus – und an diesem Abend erleben
  Sie wieviel Projektskills es erfordert\, feinste Destille herzustellen.Di
 e Manufaktur von Mampe ist eine alte Weißbierbrauerei und damit Architekt
 ur- und Industriedenkmal mit bewegter Geschichte. Ein magischer Ort! Heute
  ist sie Destille\, gläserne Manufaktur und Schnapsladen…
 Jeder Gast 
 taucht ein in die Geschichte von Mampe und erhält im Rahmen eines Rundgan
 gs durch die Manufaktur Einblick in die projektorientierte Spirituosenhers
 tellung.
LOCATION:Am Tempelhofer Berg 6\, Berlin\, 10965\, Deutschland
DTSTART:20221206T160000Z
DTEND:20221206T173000Z
DTSTAMP:20221109T060002Z
ORGANIZER;CN=PMI Germany Chapter e.V.:MAILTO:website@pmi-gc.de
GEO:52.488839;13.387252
X-APPLE-STRUCTURED-LOCATION;VALUE=URI;X-ADDRESS=Am Tempelhofer Berg 6\, Ber
 lin\, 10965\, Deutschland;X-APPLE-RADIUS=72;X-TITLE=Mampe Spirituosen GmbH
 :52.488839;13.387252
END:VEVENT
END:VCALENDAR