BEGIN:VCALENDAR
VERSION:2.0
PRODID:Events Booking
BEGIN:VEVENT
UID:69e73d5e1e931
SUMMARY:Around the Baltic : Using AI for Project Scheduling 
DESCRIPTION:&gt\;&gt\; Melde dich an zum 1. Around-the-Baltic-Event!
 &gt\
 ;&gt\; Thema :&nbsp\;Using AI for Project Scheduling&nbsp\;
 Für diese V
 eranstaltung konnten wir&nbsp\;Burcu Şengüneş mit einer Keynote zum The
 ma \"Using AI for Project Scheduling\" gewinnen\, die sich im Rahmen ihres
  PhDs mit diesem Thema beschäftigt hat. Anschließend erwartet euch eine 
 Diskussion zum Thema oder die Chance für einen persönlichen Austausch in
  gemütlicher Atmosphäre mit anderen Teilnehmern des Events aus Deutschla
 nd\, Dänemark und Schweden zu euren Themen.
 Wir freuen uns sehr auf den
  Austausch mit Euch!
DTSTART:20251125T180000Z
DTEND:20251125T193000Z
DTSTAMP:20220707T194210Z
ORGANIZER;CN=PMI Germany Chapter e.V.:MAILTO:website@pmi-gc.de
END:VEVENT
END:VCALENDAR