BEGIN:VCALENDAR
VERSION:2.0
PRODID:Events Booking
BEGIN:VEVENT
UID:69e9c2481cd26
SUMMARY:Stammtisch der PMI Local Group Hamburg April 2023
DESCRIPTION:Liebe Projektmanagement Freunde in und um Hamburg\,
 wir möch
 ten euch nach längerer Zeit wieder einmal zu einem Projektleiter-Stammtis
 ch hier in Hamburg&nbsp\;als Präsenzveranstaltung im HTHC Klubhaus einlad
 en. Alle Projektmanagement-Interessierten sind herzlich willkommen!
LOCATION:Barmbeker Straße 106\, Hamburg\, 22303 Hamburg\, Deutschland
DTSTART:20230403T160000Z
DTEND:20230403T180000Z
DTSTAMP:20220707T194210Z
ORGANIZER;CN=PMI Germany Chapter e.V.:MAILTO:website@pmi-gc.de
GEO:53.592139;10.008947
X-APPLE-STRUCTURED-LOCATION;VALUE=URI;X-ADDRESS=Barmbeker Straße 106\, Ham
 burg\, 22303 Hamburg\, Deutschland;X-APPLE-RADIUS=72;X-TITLE=Hamburg\, HTH
 C:53.592139;10.008947
END:VEVENT
END:VCALENDAR