BEGIN:VCALENDAR
VERSION:2.0
PRODID:Events Booking
BEGIN:VEVENT
UID:69e9ed4d36a2b
SUMMARY:LG Konstanz: PMBOK 7th Edition und PM in Theorie und Praxis
DESCRIPTION:PMI LG Konstanz Stammtisch - Was ist neu im PMBOK Guide 7th Edi
 tion und wie sehen wir Projektmangement in Theorie und Praxis ?&nbsp\;
 B
 eim letzten Stammtisch haben wir in der Runde festgestellt\, dass unsere K
 enntnisse über den PMBOK Guide 7th Edition und die weitreichenden Veränd
 erungen nicht wirklich bekannt sind. Und so wollen wir uns u.a. diesem The
 ma bei unserem ersten Stammtisch der PMI LG Konstanz in 2023 widmen. Ausse
 rdem möchten wir einen Dialog zum Thema \"PM in Theorie und Praxis\" begi
 nnen und haben dazu auch einen kurzen Vortrag zur Einstimmung. Wir starten
  also wieder voll engagiert in das neue Jahr durch !&nbsp\;
LOCATION:Hohenhausgasse 16\, Konstanz\, 78462 Baden-Württemberg\, Deutschl
 and
DTSTART:20230206T173000Z
DTEND:20230206T200000Z
DTSTAMP:20220930T060153Z
ORGANIZER;CN=PMI Germany Chapter e.V.:MAILTO:website@pmi-gc.de
GEO:47.662402;9.175839
X-APPLE-STRUCTURED-LOCATION;VALUE=URI;X-ADDRESS=Hohenhausgasse 16\, Konstan
 z\, 78462 Baden-Württemberg\, Deutschland;X-APPLE-RADIUS=72;X-TITLE=Freir
 äume Konstanz:47.662402;9.175839
END:VEVENT
END:VCALENDAR