BEGIN:VCALENDAR
VERSION:2.0
PRODID:Events Booking
BEGIN:VEVENT
UID:69e73c73be598
SUMMARY:Study Group Session -  PMP Prüfungsstrategien und Simulation (Smit
 a Brahmachari)
DESCRIPTION:Diese Session behandelt effektive Strategien zur Vorbereitung a
 uf die PMP-Prüfung\, darunter Zeitmanagement\, Lösungsstrategien für Fr
 agen und häufige Fallstricke. Wir betrachten Simulationsprüfungen als ze
 ntrales Instrument zur Überprüfung der Prüfungsreife\, Stärkung des Se
 lbstvertrauens und Identifikation von Wissenslücken. Zudem werden praktis
 che Tipps zur Interpretation kniffliger Fragen und zum Umgang mit Prüfung
 sstress vermittelt.
DTSTART:20251118T170000Z
DTEND:20251118T180000Z
DTSTAMP:20250712T100903Z
ORGANIZER;CN=PMI Germany Chapter e.V.:MAILTO:website@pmi-gc.de
END:VEVENT
END:VCALENDAR