BEGIN:VCALENDAR
VERSION:2.0
PRODID:Events Booking
BEGIN:VEVENT
UID:69e738692ddba
SUMMARY:Study Group Session: Grundlegende Konzepte im Projektmanagement  (A
 aron Haoua)
DESCRIPTION:Study Group Session: Grundlegende Konzepte im Projektmanagement
DTSTART:20251125T170000Z
DTEND:20251125T180000Z
DTSTAMP:20220519T174641Z
ORGANIZER;CN=PMI Germany Chapter e.V.:MAILTO:website@pmi-gc.de
END:VEVENT
END:VCALENDAR