BEGIN:VCALENDAR
VERSION:2.0
PRODID:Events Booking
BEGIN:VEVENT
UID:69e87dcb05843
SUMMARY:Afterwork Hirschgarten (Beergarden)
DESCRIPTION:We are pleased to invite you to the first meet-up of the new me
 et-up series of the Local Group Munich of the PMI Germany Chapter and at t
 he same time to the last meet-up before the summer break! We would be deli
 ghted to meet you in the Hirschgarten beer garden - the world's largest be
 er garden - for a cool beer or other drink and a Steckerlfisch or another 
 Bavarian delicacy to kick off the approaching summer vacation. Cost: self-
 pay basis
LOCATION:Hirschgartengarten 1\, 80639
DTSTART:20240723T160000Z
DTEND:20240723T183000Z
DTSTAMP:20240610T101547Z
ORGANIZER;CN=PMI Germany Chapter e.V.:MAILTO:website@pmi-gc.de
GEO:48.149986;11.511118
X-APPLE-STRUCTURED-LOCATION;VALUE=URI;X-ADDRESS=Hirschgartengarten 1\, 8063
 9;X-APPLE-RADIUS=72;X-TITLE=:48.149986;11.511118
END:VEVENT
END:VCALENDAR