BEGIN:VCALENDAR
VERSION:2.0
PRODID:Events Booking
BEGIN:VEVENT
UID:69e828997e6b5
SUMMARY:LG Jena: Energy saving and automation technology
DESCRIPTION:The Local Group Thuringia invites you to the Jena Winzerla comb
 ined heat and power plant
 The focus of the event is the subject of “en
 ergy saving and automation technology”. We look forward to exciting pres
 entations and practical examples that show how modern technologies can con
 tribute to increasing efficiency and reducing costs in projects.
LOCATION:Rudolstädter Str. 41\, 07745 Jena
DTSTART:20241121T160000Z
DTEND:20241121T180000Z
DTSTAMP:20241015T124142Z
ORGANIZER;CN=PMI Germany Chapter e.V.:MAILTO:website@pmi-gc.de
END:VEVENT
END:VCALENDAR