BEGIN:VCALENDAR
VERSION:2.0
PRODID:Events Booking
BEGIN:VEVENT
UID:69e84178abf5b
SUMMARY:Virtual Open Space Event (LG Hamburg)
DESCRIPTION:Dear projectmanagement enthusiasts\,
 the PMI Local Group Hamb
 urg is happy to invite you to another Open Space event:
 \"Because the ag
 enda of an open space meeting emerges\, more like a living thing\, what ex
 actly is going to happen or be addressed is unknown to a lesser or greater
  degree. \" (Wikipedia)
 So let's come together and discuss topics that m
 atter to you\, regardless of you want to discuss about an issue\, simply a
  topic or just share knowledge.
LOCATION:virtuell
DTSTART:20241017T163000Z
DTEND:20241017T190000Z
DTSTAMP:20220707T194210Z
ORGANIZER;CN=PMI Germany Chapter e.V.:MAILTO:website@pmi-gc.de
GEO:53.56513;10.007167
X-APPLE-STRUCTURED-LOCATION;VALUE=URI;X-ADDRESS=virtuell;X-APPLE-RADIUS=72;
 X-TITLE=:53.56513;10.007167
END:VEVENT
END:VCALENDAR