BEGIN:VCALENDAR
VERSION:2.0
PRODID:Events Booking
BEGIN:VEVENT
UID:69e9468ceda39
SUMMARY:Stress im Team? Stresstypen erkennen und unterstützen
DESCRIPTION:Oft verstehen wir nicht\, warum unser Kollege oder unsere Kolle
 gin reagieren\, wie sie es tun. Oder warum sie ein anderes Tempo haben\, a
 ls wir selbst. Und warum kann meine Kollegin nicht auch 3 Projekte zeitgle
 ich stemmen?
 Erwartungshaltungen verursachen Stress und dabei hat jeder 
 ein anderes Stressempfinden.
 Du lernst die Stresstypen von StressBoxx ke
 nnen und es wird leichter\, Dich selbst und die Kollegen in ihrem Stressem
 pfinden zu verstehen. Du bekommst wertvolle Tipps\, um Dich und Deine Team
 mitglieder in ihrer Resilienz zu stärken und somit ein gesundes und effek
 tives Arbeitsumfeld zu schaffen.
DTSTART:20230921T150000Z
DTEND:20230921T160000Z
DTSTAMP:20220613T131305Z
ORGANIZER;CN=PMI Germany Chapter e.V.:MAILTO:website@pmi-gc.de
END:VEVENT
END:VCALENDAR