BEGIN:VCALENDAR
VERSION:2.0
PRODID:Events Booking
BEGIN:VEVENT
UID:69e9c64d3b2de
SUMMARY:LG Thüringen: KI im Projektmanagement 
DESCRIPTION:Liebe PM Freunde\,
 wir laden Euch herzlich zum Stammtisch der
  Local Group Thüringen des PMI Germany Chapters ein!
 Unser Thema für d
 iesen Abend:&nbsp\;KI im Projektmanagement – Erfahrungen\, Anwendungsmö
 glichkeiten und Tools&nbsp\;  Wir freuen uns auf einen schönen Abend mit 
 Euch!
 
LOCATION:Willy-Brandt-Platz 1\, Erfurt\, 99084 Thüringen\, Deutschland
DTSTART:20260423T160000Z
DTEND:20260423T180000Z
DTSTAMP:20260406T075706Z
ORGANIZER;CN=PMI Germany Chapter e.V.:MAILTO:website@pmi-gc.de
GEO:50.972285;11.038082
X-APPLE-STRUCTURED-LOCATION;VALUE=URI;X-ADDRESS=Willy-Brandt-Platz 1\, Erfu
 rt\, 99084 Thüringen\, Deutschland;X-APPLE-RADIUS=72;X-TITLE=Willy B.:50.
 972285;11.038082
END:VEVENT
BEGIN:VEVENT
UID:69e9c64d3b304
SUMMARY:Nandita Ghosh: AI-Driven Projects
DESCRIPTION:Nandita Ghosh: AI-Driven Projects
LOCATION:Rohrbacher Str. 47\, 69115 Heidelberg
DTSTART:20260424T160000Z
DTEND:20260424T180000Z
DTSTAMP:20260407T041359Z
ORGANIZER;CN=PMI Germany Chapter e.V.:MAILTO:website@pmi-gc.de
GEO:49.4036;8.6922
X-APPLE-STRUCTURED-LOCATION;VALUE=URI;X-ADDRESS=Rohrbacher Str. 47\, 69115 
 Heidelberg;X-APPLE-RADIUS=72;X-TITLE=The Indian Grill House Heidelberg\, C
 lub Room:49.4036;8.6922
END:VEVENT
BEGIN:VEVENT
UID:69e9c64d3b313
SUMMARY:Stammtisch Stuttgart - April 2026
DESCRIPTION:Diskussion u.a. zu diesen Themenvorschlägen:- aktuelle Themen 
 aus der Runde- tbd- Wie verändert sich die Rolle der PL im Kontext KI?The
 menspeicher:- Stakeholdermanagement: 1 von 36 Strategeme- Themenschwerpunk
 t der Phase Umsetzung
LOCATION:Beim Höhenfreibad\, Stuttgart\, 70192 Baden-Württemberg\, Deutsc
 hland
DTSTART:20260424T160000Z
DTEND:20260424T180000Z
DTSTAMP:20260203T202834Z
ORGANIZER;CN=PMI Germany Chapter e.V.:MAILTO:website@pmi-gc.de
GEO:48.80795;9.174242
X-APPLE-STRUCTURED-LOCATION;VALUE=URI;X-ADDRESS=Beim Höhenfreibad\, Stuttg
 art\, 70192 Baden-Württemberg\, Deutschland;X-APPLE-RADIUS=72;X-TITLE=Wei
 nstube Killesberg:48.80795;9.174242
END:VEVENT
BEGIN:VEVENT
UID:69e9c64d3b31d
SUMMARY:Local Group Darmstadt Roundtable #41
DESCRIPTION:
 Nehmen Sie am PMI Local Group Darmstadt Roundtable teil – 
 ein informeller Abend zum Netzwerken und Diskutieren.
 Montag\, 27. April
  – 18:00 Uhr
 Karlson\, Darmstadt
 Englischsprachige Veranstaltung | 2
  PDUs möglich
DTSTART:20260427T160000Z
DTEND:20260427T180000Z
DTSTAMP:20260310T081314Z
ORGANIZER;CN=PMI Germany Chapter e.V.:MAILTO:website@pmi-gc.de
END:VEVENT
BEGIN:VEVENT
UID:69e9c64d3b32a
SUMMARY:LG Berlin: The best PMO I have ever served – the role of a Projec
 t Management Office in Strategy Execution
DESCRIPTION:LG Berlin presents:
 The best PMO I have ever served – the r
 ole of a Project Management Office in Strategy Execution
 with Bruno Morg
 ante.
 A well-structured and adaptable PMO plays a critical role in turni
 ng strategy into results.In this talk\, we will explore how effective Proj
 ect\, Program\, and Portfolio Management can drive strategic outcomes\, tr
 ansforming the PMO into a catalyst for business success.Through personal s
 tories and real life examples\, Bruno will highlight proven practices\, co
 mmon challenges\, and the leadership skills needed to create PMOs that con
 sistently deliver value.
LOCATION:Wöhlertstraße 20\, Berlin\, 10115\, Deutschland
DTSTART:20260428T160000Z
DTEND:20260428T180000Z
DTSTAMP:20260123T134307Z
ORGANIZER;CN=PMI Germany Chapter e.V.:MAILTO:website@pmi-gc.de
GEO:52.536541;13.377266
X-APPLE-STRUCTURED-LOCATION;VALUE=URI;X-ADDRESS=Wöhlertstraße 20\, Berlin
 \, 10115\, Deutschland;X-APPLE-RADIUS=72;X-TITLE=AVOCAI Events  :52.536541
 ;13.377266
END:VEVENT
BEGIN:VEVENT
UID:69e9c64d3b335
SUMMARY:LGDA online event - What Risk Registers Miss: Lessons from Expediti
 on Leadership for Project Managers with Laura Samso
DESCRIPTION:Laura Samsó Pericón&nbsp\;works at Airbus Defence &amp\; Spac
 e. She is the founder of Synarea Insights and there she focuses on strateg
 y\, leadership\, and emerging technologies\, with expertise in AI\, cyber 
 resilience\, autonomy\, and complex systems.  She also brings insights fro
 m expedition leadership\, applying decision-making\, risk management\, and
  adaptability in uncertain environments. Laura is an international speaker
 \, TEDx presenter\, and active leader in PMI and UIAA.
 https://www.linke
 din.com/in/laurasamso/
 Questions? lgdarmstadt@pmi-gc.de
DTSTART:20260428T160000Z
DTEND:20260428T173000Z
DTSTAMP:20260403T071000Z
ORGANIZER;CN=PMI Germany Chapter e.V.:MAILTO:website@pmi-gc.de
END:VEVENT
BEGIN:VEVENT
UID:69e9c64d3b340
SUMMARY:PMI Local Group Frankfurt Roundtable 48th
DESCRIPTION:48th PMI Local Group Frankfurt Roundtable April 2026
 Topic: P
 MI Round Table on Project Management topic
 Dear PM enthusiasts\, members
  of PMI and friends\, Greetings and here's the invite to the next English 
 Round Table for the project management professionals living in and around 
 the city of Frankfurt. With this event we intend to facilitate exchange be
 tween PMs\, and we will talk about Project &amp\; Program Management relat
 ed topic in the Organization.
 This meeting will allow you to discuss on 
 any of the project management related topic or questions in your project\,
  program\, organization\, or your day-to-day activities. Our volunteer tea
 m from the PMI Germany Chapter will be available to facilitate the discuss
 ion.
LOCATION:Weckmarkt\, Frankfurt\, 60311 Hesse\, Germany
DTSTART:20260428T163000Z
DTEND:20260428T183000Z
DTSTAMP:20260418T080927Z
ORGANIZER;CN=PMI Germany Chapter e.V.:MAILTO:website@pmi-gc.de
GEO:50.110209;8.685693
X-APPLE-STRUCTURED-LOCATION;VALUE=URI;X-ADDRESS=Weckmarkt\, Frankfurt\, 603
 11 Hesse\, Germany;X-APPLE-RADIUS=72;X-TITLE=Metropol:50.110209;8.685693
END:VEVENT
BEGIN:VEVENT
UID:69e9c64d3b34b
SUMMARY:PMI Local Group Langen Roundtable 5th
DESCRIPTION:5th&nbsp\;PMI Local Group Langen Roundtable April 2026
 Topic:
 &nbsp\;PMI Round Table on Project Management topic (Product Management vs.
  Project Management)
 Dear PM enthusiasts\, members of PMI and friends\,
 
 Greetings and here's the invite to the next English Round Table for the 
 project management professionals living in and around the city of Frankfur
 t. With this event we intend to facilitate exchange between PMs\, and we w
 ill talk about Project &amp\; Program Management related topic in the Orga
 nization.
 This meeting will allow you to discuss on any of the project m
 anagement related topic or questions in your project\, program\, organizat
 ion\, or your day-to-day activities. Our volunteer team from the PMI Germa
 ny Chapter will be available to facilitate the discussion.
DTSTART:20260429T163000Z
DTEND:20260429T183000Z
DTSTAMP:20260418T084509Z
ORGANIZER;CN=PMI Germany Chapter e.V.:MAILTO:website@pmi-gc.de
END:VEVENT
BEGIN:VEVENT
UID:69e9c64d3b357
SUMMARY:LGDA Online Event - Can LLMs Handle Human Complexity? with Mounina 
 Tounkara
DESCRIPTION:Now postponed to Thursday 30. April 202618:00 Uhr (CET)1 PDU an
 rechenbar | Veranstaltung auf Englisch
 Wie beeinflussen KI-Tools wie Cha
 tGPT\, Gemini und Claude unsere berufliche Kommunikation – und welche et
 hischen blinden Flecken werden dabei sichtbar? Diese Session stellt eine v
 ergleichende Studie zu LLM-generierten Antworten vor und zeigt\, wie unter
 schiedliche Modelle eigene Kommunikationsmuster erzeugen\, dabei jedoch So
 lidarität systematisch vernachlässigen. Zudem wird diskutiert\, welchen 
 Beitrag die Ubuntu-Ethik für Projektverantwortliche leisten kann.
 Speak
 er : Mounina Tounkara (FR)
DTSTART:20260430T160000Z
DTEND:20260430T173000Z
DTSTAMP:20260318T141644Z
ORGANIZER;CN=PMI Germany Chapter e.V.:MAILTO:website@pmi-gc.de
END:VEVENT
BEGIN:VEVENT
UID:69e9c64d3b363
SUMMARY:Nachhaltigkeit im Projektmanagement
DESCRIPTION:Nachhaltigkeit als messbare Dimension von Projekterfolg
 Mit z
 wei Vorträgen und intensiver Diskussion wollen wir uns an diesem Abend de
 m Thema nähern.
 Die Perspektiven sind dabei sehr&nbsp\; unterschiedlich
 :
 
 Lieferkette und Vertrieb eines Verbrauchgüterherstellers
 Risikob
 ewertung eines globalen Versicherers
 
 Wir sehen einem hoch interessant
 en Abend entgegen. Für Präsenz-Teilnehmer gibnt es die aktivste Austausc
 h und vermutlich auch Erfrischungen.
 Sei also am besten vor Ort dabei od
 er\, wo das nicht möglich ist gerne auch online.
LOCATION:Arnulfstraße 59\, München\, 80636 Bayern\, Deutschland
DTSTART:20260506T153000Z
DTEND:20260506T180000Z
DTSTAMP:20260402T133424Z
ORGANIZER;CN=PMI Germany Chapter e.V.:MAILTO:website@pmi-gc.de
GEO:48.145553;11.538317
X-APPLE-STRUCTURED-LOCATION;VALUE=URI;X-ADDRESS=Arnulfstraße 59\, München
 \, 80636 Bayern\, Deutschland;X-APPLE-RADIUS=72;X-TITLE=Ernst & Young\, M
 ünchen:48.145553;11.538317
END:VEVENT
BEGIN:VEVENT
UID:69e9c64d3b36f
SUMMARY:LGDA online event - They Just Don’t Get It: Fixing the Executive 
 Disconnect with Stuart Easton
DESCRIPTION:Ever feel like your execs just don’t get the PMO? You’re no
 t alone. All too often\, project professionals speak the language of gover
 nance\, process\, and delivery while executives are focused on outcomes\, 
 risk\, and strategic value. The result? Misunderstandings\, missed opportu
 nities\, and projects that fail to deliver. In this session we tackle the 
 executive-PMO disconnect head-on.&nbsp\;&nbsp\;
 We’ll explore how to r
 eframe your messaging so it resonates in the boardroom\, how to position y
 our PMO as a driver of business value (not just governance police)\, and h
 ow to make the CFO\, COO\, and CEO actually want you in the room. If you'r
 e ready to stop being sidelined and start being heard\, this one's for you
 .&nbsp\;
DTSTART:20260507T160000Z
DTEND:20260507T173000Z
DTSTAMP:20260409T162815Z
ORGANIZER;CN=PMI Germany Chapter e.V.:MAILTO:website@pmi-gc.de
END:VEVENT
BEGIN:VEVENT
UID:69e9c64d3b37d
SUMMARY:Stammtisch Rheinland: \"Accountability\, Responsibility\, Ownership
 \"
DESCRIPTION:Im offenen Austausch geht es um „Accountability\,Responsibili
 ty\, Ownership“: wie (er)leben wir diese Begriffe in unserer täglichenP
 raxis und wie übersetzen wir sie in unseren eigenen Sprachgebrauch?
LOCATION:Maybachstraße\, Köln\, 50670 Nordrhein-Westfalen\, Deutschland
DTSTART:20260507T170000Z
DTEND:20260507T190000Z
DTSTAMP:20260212T114510Z
ORGANIZER;CN=PMI Germany Chapter e.V.:MAILTO:website@pmi-gc.de
GEO:50.948948;6.949452
X-APPLE-STRUCTURED-LOCATION;VALUE=URI;X-ADDRESS=Maybachstraße\, Köln\, 50
 670 Nordrhein-Westfalen\, Deutschland;X-APPLE-RADIUS=72;X-TITLE=MAYBACH Re
 staurant Köln:50.948948;6.949452
END:VEVENT
BEGIN:VEVENT
UID:69e9c64d3b388
SUMMARY:Vortrag || Local Group Ruhrgebiet
DESCRIPTION:Liebe Mitglieder der Local Group Ruhrgebiet\,
    Wir treffen 
 uns um 18.00 Uhr im Unperfekthaus.&nbsp\; Wir freuens uns wieder auf eine 
 angeregte Diskussion.
LOCATION:Friedrich-Ebert-Str. 18-26\, 45127 Essen
DTSTART:20260512T160000Z
DTEND:20260512T180000Z
DTSTAMP:20260121T231344Z
ORGANIZER;CN=PMI Germany Chapter e.V.:MAILTO:website@pmi-gc.de
END:VEVENT
BEGIN:VEVENT
UID:69e9c64d3b394
SUMMARY:LG Berlin: PMI Stammtisch
DESCRIPTION:Liebe (Neu-) Mitglieder der Local Group Berlin Brandenburg und 
 PM-Interessierte im Raum Berlin\, wir laden ein zum monatlichen Stammtisch
 !
 Der PMI Berlin Stammtisch ist ein offenes\, informelles Netzwerktreffe
 n für alle\, die sich für Projektmanagement interessieren.Als eine Local
  Group des PMI Germany Chapter ist es uns wichtig\, unsere (neuen) Mitglie
 der herzlichst im Chapter willkommen zu heißen und sie über aktuelle Ent
 wicklungen\, spannende Angebote und Neuigkeiten aus der Welt des Projektma
 nagements zu informieren.  Der Stammtisch ist ideal für alle\, die uns un
 d die Arbeit der PMI Berlin Local Group kennenlernen möchten: Du erfährs
 t\, wer wir sind\, was wir veranstalten und welche Möglichkeiten es gibt\
 , sich einzubringen und aktiv mitzuwirken. Egal\, ob du einfach neugierig 
 bist\, dich vernetzen möchtest oder überlegst\, selbst aktiv zu werden 
 – komm vorbei und lerne uns persönlich kennen.  Wir wollen mit Euch ins
  Gespräch kommen! Stellt Eure Fragen\, gebt uns Feedback und bringt Eure 
 Ideen ein. Eure Meinung zählt und hilft uns\, das Chapter noch besser auf
  die Bedürfnisse unserer Community auszurichten. 
LOCATION:Rosa-Luxemburg-Straße 2\, Berlin\, 10178\, Deutschland
DTSTART:20260514T160000Z
DTEND:20260514T173000Z
DTSTAMP:20260322T073141Z
ORGANIZER;CN=PMI Germany Chapter e.V.:MAILTO:website@pmi-gc.de
GEO:52.523103;13.40928
X-APPLE-STRUCTURED-LOCATION;VALUE=URI;X-ADDRESS=Rosa-Luxemburg-Straße 2\, 
 Berlin\, 10178\, Deutschland;X-APPLE-RADIUS=72;X-TITLE=Spreegold Mitte:52.
 523103;13.40928
END:VEVENT
BEGIN:VEVENT
UID:69e9c64d3b3a0
SUMMARY:Online event LG Darmstadt: Shameless Project Marketing by Dirk With
 ake
DESCRIPTION:Shameless Project Marketing
 A PMI volunteer since 2018\, Dirk
  Withake became President of PMI Austria in 2024 and contributed to the PM
 BOK® Guide. He also teaches project management and speaks at major global
  forums.https://www.linkedin.com/in/dirkwithake/During his presentation\, 
 attendees will receive a practical playbook on how to make projects and pr
 ograms more successful through marketing before\, during\, and after deliv
 ery.
 &nbsp\;
 Questions? lgdarmstadt@pmi-gc.de&nbsp\;
DTSTART:20260519T160000Z
DTEND:20260519T173000Z
DTSTAMP:20260315T132842Z
ORGANIZER;CN=PMI Germany Chapter e.V.:MAILTO:website@pmi-gc.de
END:VEVENT
BEGIN:VEVENT
UID:69e9c64d3b3ac
SUMMARY:Stammtisch Stuttgart - Mai 2026
DESCRIPTION:Diskussion u.a. zu diesen Themenvorschlägen:- aktuelle Themen 
 aus der Runde- tbd- Wie verändert sich die Rolle der PL im Kontext KI?The
 menspeicher:- Stakeholdermanagement: 1 von 36 Strategeme- Themenschwerpunk
 t der Phase Steuerung und Überwachung
LOCATION:Stuttgart\, 70173 Baden-Württemberg\, Deutschland
DTSTART:20260522T160000Z
DTEND:20260522T180000Z
DTSTAMP:20260203T203139Z
ORGANIZER;CN=PMI Germany Chapter e.V.:MAILTO:website@pmi-gc.de
GEO:48.778472;9.179745
X-APPLE-STRUCTURED-LOCATION;VALUE=URI;X-ADDRESS=Stuttgart\, 70173 Baden-Wü
 rttemberg\, Deutschland;X-APPLE-RADIUS=72;X-TITLE=Stuttgart (Platzhalter):
 48.778472;9.179745
END:VEVENT
BEGIN:VEVENT
UID:69e9c64d3b3b8
SUMMARY:Aufbau einer Standalone‑Einheit (Carve‑out) im BASF‑Konzern  
 – Wie der PM‑Werkzeugkoffer Orientierung\, Fokus und Umsetzungskraft s
 chafft
DESCRIPTION:Liebe Projektmanagement Freunde in und um Hamburg\,
 im Mai gi
 bt es wieder eine Veranstaltung mit dem Titel:
 Aufbau einer Standalone
 ‑Einheit (Carve‑out) im BASF‑Konzern 
 – Wie der PM‑Werkzeugkof
 fer Orientierung\, Fokus und Umsetzungskraft schafft
LOCATION:Barmbeker Straße 106\, Hamburg\, 22303 Hamburg\, Deutschland
DTSTART:20260527T160000Z
DTEND:20260527T173000Z
DTSTAMP:20220707T194210Z
ORGANIZER;CN=PMI Germany Chapter e.V.:MAILTO:website@pmi-gc.de
GEO:53.592139;10.008947
X-APPLE-STRUCTURED-LOCATION;VALUE=URI;X-ADDRESS=Barmbeker Straße 106\, Ham
 burg\, 22303 Hamburg\, Deutschland;X-APPLE-RADIUS=72;X-TITLE=Hamburg\, HTH
 C:53.592139;10.008947
END:VEVENT
BEGIN:VEVENT
UID:69e9c64d3b3c3
SUMMARY:Coaching mit Ingo Kusch
DESCRIPTION:Arbeitstitel: Coaching
LOCATION:Rohrbacher Str. 47\, 69115 Heidelberg
DTSTART:20260529T160000Z
DTEND:20260529T173000Z
DTSTAMP:20260314T150729Z
ORGANIZER;CN=PMI Germany Chapter e.V.:MAILTO:website@pmi-gc.de
GEO:49.4036;8.6922
X-APPLE-STRUCTURED-LOCATION;VALUE=URI;X-ADDRESS=Rohrbacher Str. 47\, 69115 
 Heidelberg;X-APPLE-RADIUS=72;X-TITLE=The Indian Grill House Heidelberg\, C
 lub Room:49.4036;8.6922
END:VEVENT
BEGIN:VEVENT
UID:69e9c64d3b3ce
SUMMARY:Stammtisch der Local Group Ruhrgebiet
DESCRIPTION:Liebe Projektmanagement-Enthusiasten\,  wir laden Euch herzlich
  zum Stammtisch der Local Group Ruhrgebiet des PMI Germany Chapters ein! D
 ies ist eine großartige Gelegenheit\, gleichgesinnte Projektmanagerinnen 
 und Projektmanager zu treffen\, sich zu vernetzen und 2 wertvolle PDUs (Pr
 ofessional Development Units) zu sammeln.  Wir freuen uns auf einen inspir
 ierenden Abend mit Euch!
LOCATION:Girardetstraße 2\, Essen\, 45131 Nordrhein-Westfalen\, Deutschlan
 d
DTSTART:20260608T220000Z
DTEND:20260608T220000Z
DTSTAMP:20260122T061355Z
ORGANIZER;CN=PMI Germany Chapter e.V.:MAILTO:website@pmi-gc.de
GEO:51.431014;7.004876
X-APPLE-STRUCTURED-LOCATION;VALUE=URI;X-ADDRESS=Girardetstraße 2\, Essen\,
  45131 Nordrhein-Westfalen\, Deutschland;X-APPLE-RADIUS=72;X-TITLE=Fritzpa
 tricks Irish Pub Essen:51.431014;7.004876
END:VEVENT
BEGIN:VEVENT
UID:69e9c64d3b3d9
SUMMARY:Workshop Rheinland
DESCRIPTION:
DTSTART:20260611T170000Z
DTEND:20260611T190000Z
DTSTAMP:20260212T115145Z
ORGANIZER;CN=PMI Germany Chapter e.V.:MAILTO:website@pmi-gc.de
END:VEVENT
BEGIN:VEVENT
UID:69e9c64d3b3e4
SUMMARY:LG  Hamburg : Kommunikation - Lass uns darüber reden ?!
DESCRIPTION:Liebe Projektmanagement Freunde in und um Hamburg\,
 im Juni g
 ibt es wieder eine Veranstaltung mit dem Titel:
 Kommunikation - Lass uns
  darüber reden ?!
 Was hat ein Klavier mit einem Fahrrad zu tun? Komme v
 orbei und finde es heraus!
 Erfahre was dich unterstützen kann einen pos
 itiven Einfluss auf das Miteinander und die Gespräche zu nehmen.
LOCATION:Stresemannallee\, Hamburg\, 22529\, Deutschland
DTSTART:20260624T154500Z
DTEND:20260624T173000Z
DTSTAMP:20220707T194210Z
ORGANIZER;CN=PMI Germany Chapter e.V.:MAILTO:website@pmi-gc.de
GEO:53.583529;9.956518
X-APPLE-STRUCTURED-LOCATION;VALUE=URI;X-ADDRESS=Stresemannallee\, Hamburg\,
  22529\, Deutschland;X-APPLE-RADIUS=72;X-TITLE=Hamburg\, Nexperia:53.58352
 9;9.956518
END:VEVENT
BEGIN:VEVENT
UID:69e9c64d3b3ef
SUMMARY:Stammtisch Stuttgart - Juni 2026
DESCRIPTION:Diskussion u.a. zu diesen Themenvorschlägen:- aktuelle Themen 
 aus der Runde- tbd- Wie verändert sich die Rolle der PL im Kontext KI?The
 menspeicher:- Stakeholdermanagement: 1 von 36 Strategeme- Themenschwerpunk
 t der Phase Abschluss
LOCATION:Stuttgart\, 70173 Baden-Württemberg\, Deutschland
DTSTART:20260626T160000Z
DTEND:20260625T220000Z
DTSTAMP:20260203T203606Z
ORGANIZER;CN=PMI Germany Chapter e.V.:MAILTO:website@pmi-gc.de
GEO:48.778472;9.179745
X-APPLE-STRUCTURED-LOCATION;VALUE=URI;X-ADDRESS=Stuttgart\, 70173 Baden-Wü
 rttemberg\, Deutschland;X-APPLE-RADIUS=72;X-TITLE=Stuttgart (Platzhalter):
 48.778472;9.179745
END:VEVENT
BEGIN:VEVENT
UID:69e9c64d3b3fa
SUMMARY:Vortrag || Local Group Ruhrgebiet
DESCRIPTION:
 Liebe Mitglieder der Local Group Ruhrgebiet\,   Wir treffen 
 uns um 18.00 Uhr im Unperfekthaus.&nbsp\; Wir freuens uns wieder auf eine 
 angeregte Diskussion.
 
LOCATION:Friedrich-Ebert-Str. 18-26\, 45127 Essen
DTSTART:20260714T160000Z
DTEND:20260714T180000Z
DTSTAMP:20260121T232614Z
ORGANIZER;CN=PMI Germany Chapter e.V.:MAILTO:website@pmi-gc.de
END:VEVENT
BEGIN:VEVENT
UID:69e9c64d3b407
SUMMARY:Stammtisch der Local Group Ruhrgebiet
DESCRIPTION:Liebe Projektmanagement-Enthusiasten\,  wir laden Euch herzlich
  zum Stammtisch der Local Group Ruhrgebiet des PMI Germany Chapters ein! D
 ies ist eine großartige Gelegenheit\, gleichgesinnte Projektmanagerinnen 
 und Projektmanager zu treffen\, sich zu vernetzen und 2 wertvolle PDUs (Pr
 ofessional Development Units) zu sammeln.  Wir freuen uns auf einen inspir
 ierenden Abend mit Euch!
LOCATION:Girardetstraße 2\, Essen\, 45131 Nordrhein-Westfalen\, Deutschlan
 d
DTSTART:20260811T160000Z
DTEND:20260811T180000Z
DTSTAMP:20260122T062434Z
ORGANIZER;CN=PMI Germany Chapter e.V.:MAILTO:website@pmi-gc.de
GEO:51.431014;7.004876
X-APPLE-STRUCTURED-LOCATION;VALUE=URI;X-ADDRESS=Girardetstraße 2\, Essen\,
  45131 Nordrhein-Westfalen\, Deutschland;X-APPLE-RADIUS=72;X-TITLE=Fritzpa
 tricks Irish Pub Essen:51.431014;7.004876
END:VEVENT
BEGIN:VEVENT
UID:69e9c64d3b41a
SUMMARY:Workshop Rheinland
DESCRIPTION:
DTSTART:20260910T170000Z
DTEND:20260910T190000Z
DTSTAMP:20260212T115638Z
ORGANIZER;CN=PMI Germany Chapter e.V.:MAILTO:website@pmi-gc.de
END:VEVENT
BEGIN:VEVENT
UID:69e9c64d3b42d
SUMMARY:Vortrag || Local Group Ruhrgebiet
DESCRIPTION:Liebe Mitglieder der Local Group Ruhrgebiet\,
    Wir treffen 
 uns um 18.00 Uhr im Unperfekthaus.&nbsp\; Wir freuens uns wieder auf eine 
 angeregte Diskussion.
LOCATION:Friedrich-Ebert-Str. 18-26\, 45127 Essen
DTSTART:20260915T160000Z
DTEND:20260915T180000Z
DTSTAMP:20260121T233615Z
ORGANIZER;CN=PMI Germany Chapter e.V.:MAILTO:website@pmi-gc.de
END:VEVENT
BEGIN:VEVENT
UID:69e9c64d3b43d
SUMMARY:Stammtisch der Local Group Ruhrgebiet
DESCRIPTION:Liebe Projektmanagement-Enthusiasten\,  wir laden Euch herzlich
  zum Stammtisch der Local Group Ruhrgebiet des PMI Germany Chapters ein! D
 ies ist eine großartige Gelegenheit\, gleichgesinnte Projektmanagerinnen 
 und Projektmanager zu treffen\, sich zu vernetzen und 2 wertvolle PDUs (Pr
 ofessional Development Units) zu sammeln.  Wir freuen uns auf einen inspir
 ierenden Abend mit Euch!
LOCATION:Girardetstraße 2\, Essen\, 45131 Nordrhein-Westfalen\, Deutschlan
 d
DTSTART:20261013T160000Z
DTEND:20261013T180000Z
DTSTAMP:20260122T062919Z
ORGANIZER;CN=PMI Germany Chapter e.V.:MAILTO:website@pmi-gc.de
GEO:51.431014;7.004876
X-APPLE-STRUCTURED-LOCATION;VALUE=URI;X-ADDRESS=Girardetstraße 2\, Essen\,
  45131 Nordrhein-Westfalen\, Deutschland;X-APPLE-RADIUS=72;X-TITLE=Fritzpa
 tricks Irish Pub Essen:51.431014;7.004876
END:VEVENT
BEGIN:VEVENT
UID:69e9c64d3b44e
SUMMARY:Vortrag || Local Group Ruhrgebiet
DESCRIPTION:Liebe Mitglieder der Local Group Ruhrgebiet\, Wir treffen uns u
 m 18.00 Uhr im Unperfekthaus.&nbsp\; Wir freuens uns wieder auf eine anger
 egte Diskussion.
LOCATION:Friedrich-Ebert-Str. 18-26\, 45127 Essen
DTSTART:20261110T170000Z
DTEND:20261110T190000Z
DTSTAMP:20260121T234058Z
ORGANIZER;CN=PMI Germany Chapter e.V.:MAILTO:website@pmi-gc.de
END:VEVENT
BEGIN:VEVENT
UID:69e9c64d3b459
SUMMARY:Stammtisch Rheinland
DESCRIPTION:
DTSTART:20261126T180000Z
DTEND:20261126T200000Z
DTSTAMP:20260212T120033Z
ORGANIZER;CN=PMI Germany Chapter e.V.:MAILTO:website@pmi-gc.de
END:VEVENT
BEGIN:VEVENT
UID:69e9c64d3b464
SUMMARY:Annual Christmas Party Celebration
DESCRIPTION:If you’re a project manager in the Ruhrgebiet and still wonde
 ring how to spend your Tuesday evening\, join us on 11th December at Wolpe
 rding Essen from 18:00–21:00.  Expect good conversations\, networking wi
 th fellow PMs\, shared experiences\, and plenty of laughter\, a great mid-
 week reset after juggling projects\, deadlines\, and stakeholders.
LOCATION:Rotthauser Straße 34\, Essen\, 45309 Nordrhein-Westfalen\, Deutsc
 hland
DTSTART:20261211T170000Z
DTEND:20261211T200000Z
DTSTAMP:20260122T064621Z
ORGANIZER;CN=PMI Germany Chapter e.V.:MAILTO:website@pmi-gc.de
GEO:51.473083;7.083953
X-APPLE-STRUCTURED-LOCATION;VALUE=URI;X-ADDRESS=Rotthauser Straße 34\, Ess
 en\, 45309 Nordrhein-Westfalen\, Deutschland;X-APPLE-RADIUS=72;X-TITLE=Wol
 perding Essen:51.473083;7.083953
END:VEVENT
END:VCALENDAR