BEGIN:VCALENDAR
VERSION:2.0
PRODID:Events Booking
BEGIN:VEVENT
UID:69e4ef6940ea2
SUMMARY:Stammtisch Rheinland
DESCRIPTION:
LOCATION:Maybachstraße\, Köln\, 50670 Nordrhein-Westfalen\, Deutschland
DTSTART:20260507T170000Z
DTEND:20260507T190000Z
DTSTAMP:20260212T114510Z
ORGANIZER;CN=PMI Germany Chapter e.V.:MAILTO:website@pmi-gc.de
GEO:50.948948;6.949452
X-APPLE-STRUCTURED-LOCATION;VALUE=URI;X-ADDRESS=Maybachstraße\, Köln\, 50
 670 Nordrhein-Westfalen\, Deutschland;X-APPLE-RADIUS=72;X-TITLE=MAYBACH Re
 staurant Köln:50.948948;6.949452
END:VEVENT
END:VCALENDAR